BEGIN:VCALENDAR
VERSION:2.0
PRODID:-//wp-events-plugin.com//7.2.3.1//EN
TZID:Europe/Stockholm
X-WR-TIMEZONE:Europe/Stockholm
BEGIN:VEVENT
UID:27@icdp.se
DTSTART;TZID=Europe/Stockholm:20260525T090000
DTEND;TZID=Europe/Stockholm:20260526T160000
DTSTAMP:20260310T203358Z
URL:https://icdp.se/events/diplomerad-vagledare-i-vagledande-samspel-for-f
 oralder-i-nytt-land-2/
SUMMARY:Diplomerad Vägledare i Vägledande samspel för förälder i nytt 
 land
DESCRIPTION:Programmet Vägledande samspel ICDP erbjuder en utbildning som 
 tagits fram tillsammans med Jönköpings kommun för dig som är utbildad 
 Vägledare (nivå 2). Det är ett koncept för att arbeta med nyanlända o
 ch utrikesfödda föräldrar med Vägledande samspel som grund. Ett anpass
 at program presenteras där förhållningssättet varvas med samtal kring 
 kultur och samhälle. För hur går det egentligen till när en familj ska
  bli integrerad i en ny kultur och förstå samhället. Och hur kan förä
 ldrarna stötta sina barn som ska växa upp med två kulturer.\n\nI Jönk
 öping pågår ett arbete med Vägledande samspel i utanförskapsområden 
 som riktar sig till målgruppen och de har haft många vägledningsgrupper
  med mycket gott resultat. Deras målsättning är att skapa delaktighet\,
  minska rädsla för myndigheter och förståelse för att vi här i Sveri
 ge lever i ett globalt sett extremt land och betydelsen av det. Men framf
 örallt att ICDP ska komma så många barn som möjligt till del via deras
  föräldrar.\n\n"Livet blir lättare när vi från början lär oss hur l
 ivet fungerar här” (förälder som gått Vägledande samspel för för
 älder i nytt land).\nVägledande samspel ICDP är ett sätt att förverkl
 iga Nya socialtjänstlagen\nProgrammet matchar syftet med nya lagen genom 
 att bland annat vara ett tydligt\, kunskapsbaserat program\, med starkt ba
 rnperspektiv som främjar jämlikhet och jämställdhet. ICDP är ett för
 ebyggande\, enkelt och lättillgängligt samspelsprogram som kan implement
 eras inom exempelvis socialtjänst\, skola\, förskola osv.\n\n&nbsp\;\n\n
 Dag 1 innefattar en del teori samt hur vi kan justera programmet till mål
 gruppen förälder i nytt land. Ni får tips på relevanta övningar och f
 ilmer.\nDag 2 har fokus på diskussioner\, litteraturseminarium och ger ut
 rymme att dela erfarenheter och ställa frågor.\n\nVill du se och läsa m
 er om Vägledande samspel i Jönköping\n\nhttps://www.svt.se/nyheter/loka
 lt/jonkoping/fateme-jag-har-lart-mig-att-saga-att-jag-alskar-mina-barn\n\n
 https://www.svt.se/nyheter/lokalt/jonkoping/mamman-innan-kunde-jag-inte-sa
 ga-att-jag-alskar-mina-barn\n\nhttps://www.svt.se/nyheter/lokalt/jonkoping
 /har-far-foraldrar-stod-pa-sitt-eget-sprak\n\n&nbsp\;\n\nNär: 2025-05-25\
 , kl. 9.00 - 16.00\, 2025-05-26\, kl 9.00 - 16.00\n\nPlats: Sundsvall\n\nK
 ursavgift: 4950 kr\n\nUtbildare: Ulrica Kuch Heidari som är en av de som 
 arbetar mest aktivt med målgruppen i Jönköping\n\nsamt Caroline Wendel 
 från Stiftelsen ICDP\n\nKurslitteratur:\n\nSanari A\, Sverigevänner : hi
 storien om hur pappa och jag försökte bli svenskast på Tjörn\, 2020\n\
 nBergman P\, Dialog och Demokrati - vägledande samspel i ett samhällelig
 t och utvecklingspsykologiskt perspektiv. Repetera speciellt de sidor om d
 ialogerna och demokratisering. \n\nHäften eller annat material kan tillk
 omma\n\nÅterbudsregler\n\nVid utbildning i programmet Vägledande Samspel
  ICDP samt vid deltagande på seminarier\, nätverksträffar samt konfere
 nser i Stiftelsen ICDP:s regi. Vid utbildning nivå ett\, två samt tre:\
 n\n 	Avbokning senare än en månad innan kursstart debiteras full taxa.\n
  	Avbokning senast en månad före kursstart debiteras halv avgift.\n 	Avb
 okning två månader eller mer före kursstart debiteras ingen avgift.\n\
 nVid avbrott eller sjukdom:\n\n 	Vid avbrott räknas platsen som utnyttjad
 . Det kan bli möjligt att fullfölja kursen vid ett senare tillfälle i m
 ån av plats. För att täcka merkostnaden kommer dock en halv kursavgift
  debiteras.\n 	Det är obligatorisk närvaro vid alla kursdagar. Om kursde
 ltagare blir sjuk behöver vissa kompletterande uppgifter behöva genomfö
 ras av deltagaren\, vilka tas fram av kursledaren. För att få kursbevis 
 krävs minst 75 % närvaro.\n\n&nbsp\;
ATTACH;FMTTYPE=image/jpeg:https://icdp.se/app/uploads/2023/03/ICDP_webb_17
 A0755.jpg
CATEGORIES:Förälder i Nytt land
LOCATION:Sundsvalls kommun\, Plats meddelas senare\, Sundsvall\, Sverige
X-APPLE-STRUCTURED-LOCATION;VALUE=URI;X-ADDRESS=Plats meddelas senare\, Sun
 dsvall\, Sverige;X-APPLE-RADIUS=100;X-TITLE=Sundsvalls kommun:geo:0,0
END:VEVENT
BEGIN:VTIMEZONE
TZID:Europe/Stockholm
X-LIC-LOCATION:Europe/Stockholm
BEGIN:DAYLIGHT
DTSTART:20260329T030000
TZOFFSETFROM:+0100
TZOFFSETTO:+0200
TZNAME:CEST
END:DAYLIGHT
END:VTIMEZONE
END:VCALENDAR