BEGIN:VCALENDAR
VERSION:2.0
PRODID:-//wp-events-plugin.com//7.2.3.1//EN
TZID:Europe/Stockholm
X-WR-TIMEZONE:Europe/Stockholm
BEGIN:VEVENT
UID:34@icdp.se
DTSTART;TZID=Europe/Stockholm:20270104T090000
DTEND;TZID=Europe/Stockholm:20270104T160000
DTSTAMP:20260310T204230Z
URL:https://icdp.se/events/intresseanmalan-till-utbildning-handledare-utbi
 ldare-i-icdp/
SUMMARY:Intresseanmälan till utbildning – handledare/utbildare i ICDP
DESCRIPTION:Intresseanmälan\n\nAnmäl dig i nedan formulär så hör vi av
  oss när det är dags att skicka in din presentation och ansökan till ut
 bildningen. Intresseanmälan är ej bindande.\nDatum för utbildningen\n\n
 \nKursstart våren 2027. 4 terminer. Datum ännu ej fastställda.\n\nKursa
 vgift\n\n\n13 000kr ex moms/termin\n\nUtbildningen omfattar åtta lärarle
 dda internatdagar och kompletteras med självstudier samt eget genomföran
 de av utbildning mellan träffarna.Internatformen ger utrymme för fördju
 pning\, reflektion och arbete med de egna utbildningsuppdragen.Kost och lo
 gi tillkommer och bekostas separat av deltagaren.\nAnsökningsförfarande\
 nTill våra nivå 3 utbildningar behöver du ansöka om plats för att vi 
 på ett tidigt stadium ska kunna planera utbildningarna och möta er som s
 jälva ska utbilda på ett så bra sätt som möjligt.\n\nVi vill att du s
 kriver lite kort om dig själv\, när\, var och för vem du utbildat dig i
  ICDP. Hur du använder programmet idag samt hur du tänkt använda din ha
 ndledar- och utbildningskompetens när du är klar.\n\nSkicka ansökan til
 l styrelsen: info@icdp.se\n\nNär styrelsen tagit ställning till ansökni
 ngarna får du ett mail från den som är ansvarig för nivå 3 utbildning
 en. Gå då in på denna sida och anmäl dig i nedan formulär.\nUtbildnin
 gens innehåll och arbetsformer\nFör att godkännas i Utbildningen till U
 tbildare/handledare i Programmet Vägledande samspel ICDP behöver följan
 de undervisningsmoment fullföljas.\n\nUtbildningen genomförs under 4 ter
 miner som inleds med:\n\n 	En fördjupning av teorin med egna reflektioner
  som sammanfattas i text\n 	Upprättandet av egna kursupplägg för nivå 
 1 och 2 utbildningar\n 	Att se och reflektera över sig själv i rollen so
 m handledare/utbildare\n\nDärefter genomförs en praktisk del med:\n\n 	V
 ideoupptagningar av egna utbildningsinsatser på nivå 1 och nivå 2\n 	F
 öra loggbok över den egna utbildningsinsatsen på nivå 1 och 2\n 	Beskr
 iva och återföra egna erfarenheter till utbildningsgruppen\n\nHandledare
 n och stiftelsen ICDP Sweden tecknar ett samarbetsavtal som löper tre år
  i taget.\nÅterbudsregler\nVid utbildning i programmet Vägledande Samspe
 l ICDP samt vid deltagande på seminarier\, nätverksträffar samt konfer
 enser i Stiftelsen ICDP:s regi.\n\nVid utbildning:\n\n 	Avbokning senare 
 än en månad innan kursstart debiteras full taxa.\n 	Avbokning senast en 
 månad före kursstart debiteras halv avgift.\n 	Avbokning två månader e
 ller mer före kursstart debiteras ingen avgift.\n\nVid avbrott eller sju
 kdom:\n\n 	Vid avbrott räknas platsen som utnyttjad. Att fullfölja kurse
 n vid ett senare tillfälle kan endast ske vid mån av plats samt att en 
 halv ny kursavgift debiteras.\n 	För att få kursbevis krävs 75 % närv
 aro samt att vissa kompletterande uppgifter genomförs\n\nOBS: Vår faktu
 rering är automatiserad så var därför extra uppmärksam på att du fyl
 ler i exempelvis referensnummer som din organisation kräver ska stå med 
 på fakturan. Om du har ett inlogg till ICDP Community kommer systemet vil
 ja att du loggar in så att bokningen kan hanteras i din profil.
ATTACH;FMTTYPE=image/jpeg:https://icdp.se/app/uploads/2015/05/Logga-facebo
 ok-icdp.png
CATEGORIES:Handledarutbildning
LOCATION:Ersta konferens & hotell\, Erstagatan 1K\, Stockholm\, 116 28\, Sv
 erige
X-APPLE-STRUCTURED-LOCATION;VALUE=URI;X-ADDRESS=Erstagatan 1K\, Stockholm\,
  116 28\, Sverige;X-APPLE-RADIUS=100;X-TITLE=Ersta konferens & hotell:geo:
 0,0
END:VEVENT
BEGIN:VTIMEZONE
TZID:Europe/Stockholm
X-LIC-LOCATION:Europe/Stockholm
BEGIN:STANDARD
DTSTART:20261025T020000
TZOFFSETFROM:+0200
TZOFFSETTO:+0100
TZNAME:CET
END:STANDARD
END:VTIMEZONE
END:VCALENDAR